Package: multicrispr Version: 1.20.0 Command: /Library/Frameworks/R.framework/Resources/bin/R CMD INSTALL multicrispr StartedAt: 2025-11-03 15:45:29 -0500 (Mon, 03 Nov 2025) EndedAt: 2025-11-03 15:46:18 -0500 (Mon, 03 Nov 2025) EllapsedTime: 49.4 seconds RetCode: 0 Status: OK