Package: multicrispr Version: 1.20.0 Command: /Library/Frameworks/R.framework/Resources/bin/R CMD build --keep-empty-dirs --no-resave-data multicrispr StartedAt: 2025-11-03 17:58:21 -0500 (Mon, 03 Nov 2025) EndedAt: 2025-11-03 18:00:06 -0500 (Mon, 03 Nov 2025) EllapsedTime: 105.1 seconds RetCode: 0 Status: OK PackageFile: multicrispr_1.20.0.tar.gz PackageFileSize: 2.586 MiB