Package: multicrispr Version: 1.19.1 Command: rm -rf multicrispr.buildbin-libdir && mkdir multicrispr.buildbin-libdir && /Users/biocbuild/BBS/utils/build-universal.sh multicrispr_1.19.1.tar.gz /Library/Frameworks/R.framework/Resources/bin/R multicrispr.buildbin-libdir StartedAt: 2025-10-24 23:11:45 -0400 (Fri, 24 Oct 2025) EndedAt: 2025-10-24 23:12:01 -0400 (Fri, 24 Oct 2025) EllapsedTime: 16.3 seconds RetCode: 0 Status: OK PackageFile: multicrispr_1.19.1.tgz PackageFileSize: 2.746 MiB