Package: multiWGCNA Version: 1.8.0 Command: /home/biocbuild/bbs-3.22-bioc/R/bin/R CMD check --install=check:multiWGCNA.install-out.txt --library=/home/biocbuild/bbs-3.22-bioc/R/site-library --timings multiWGCNA_1.8.0.tar.gz StartedAt: 2025-11-21 02:38:33 -0500 (Fri, 21 Nov 2025) EndedAt: 2025-11-21 02:48:42 -0500 (Fri, 21 Nov 2025) EllapsedTime: 609.7 seconds RetCode: 1 Status: ERROR CheckDir: multiWGCNA.Rcheck Warnings: NA