Package: multiWGCNA Version: 1.8.0 Command: /Library/Frameworks/R.framework/Resources/bin/R CMD INSTALL multiWGCNA StartedAt: 2025-11-03 15:40:15 -0500 (Mon, 03 Nov 2025) EndedAt: 2025-11-03 15:41:00 -0500 (Mon, 03 Nov 2025) EllapsedTime: 44.4 seconds RetCode: 0 Status: OK