Package: multiWGCNA Version: 1.8.0 Command: /Library/Frameworks/R.framework/Resources/bin/R CMD build --keep-empty-dirs --no-resave-data multiWGCNA StartedAt: 2025-11-02 18:02:04 -0500 (Sun, 02 Nov 2025) EndedAt: 2025-11-02 18:06:52 -0500 (Sun, 02 Nov 2025) EllapsedTime: 287.4 seconds RetCode: 0 Status: OK PackageFile: multiWGCNA_1.8.0.tar.gz PackageFileSize: 3.604 MiB