Package: multiWGCNA Version: 1.8.0 Command: rm -rf multiWGCNA.buildbin-libdir && mkdir multiWGCNA.buildbin-libdir && /Users/biocbuild/BBS/utils/build-universal.sh multiWGCNA_1.8.0.tar.gz /Library/Frameworks/R.framework/Resources/bin/R multiWGCNA.buildbin-libdir StartedAt: 2025-11-04 01:52:34 -0500 (Tue, 04 Nov 2025) EndedAt: 2025-11-04 01:53:21 -0500 (Tue, 04 Nov 2025) EllapsedTime: 47.1 seconds RetCode: 0 Status: OK PackageFile: multiWGCNA_1.8.0.tgz PackageFileSize: 3.952 MiB