Package: multiWGCNA Version: 1.7.0 Command: /Library/Frameworks/R.framework/Resources/bin/R CMD build --keep-empty-dirs --no-resave-data multiWGCNA StartedAt: 2025-10-24 17:11:09 -0400 (Fri, 24 Oct 2025) EndedAt: 2025-10-24 17:13:01 -0400 (Fri, 24 Oct 2025) EllapsedTime: 112.3 seconds RetCode: 0 Status: OK PackageFile: multiWGCNA_1.7.0.tar.gz PackageFileSize: 3.601 MiB