Package: multiWGCNA Version: 1.8.0 Maintainer: Dario Tommasini MaintainerEmail: dtommasini0 at gmail.com git_url: https://git.bioconductor.org/packages/multiWGCNA git_branch: RELEASE_3_22 git_last_commit: 9da7846 git_last_commit_date: 2025-10-29 11:24:20 -0500 (Wed, 29 Oct 2025)