Package: multiMiR Version: 1.32.0 Command: /home/biocbuild/R/R/bin/R CMD INSTALL multiMiR StartedAt: 2025-11-20 22:16:01 -0000 (Thu, 20 Nov 2025) EndedAt: 2025-11-20 22:16:23 -0000 (Thu, 20 Nov 2025) EllapsedTime: 21.4 seconds RetCode: 0 Status: OK