Package: multiMiR Version: 1.31.0 Command: /Library/Frameworks/R.framework/Resources/bin/R CMD INSTALL multiMiR StartedAt: 2025-10-27 15:17:18 -0400 (Mon, 27 Oct 2025) EndedAt: 2025-10-27 15:17:46 -0400 (Mon, 27 Oct 2025) EllapsedTime: 28.7 seconds RetCode: 0 Status: OK