Package: multiMiR Version: 1.31.0 Command: /Library/Frameworks/R.framework/Resources/bin/R CMD build --keep-empty-dirs --no-resave-data multiMiR StartedAt: 2025-10-24 18:00:17 -0400 (Fri, 24 Oct 2025) EndedAt: 2025-10-24 18:01:31 -0400 (Fri, 24 Oct 2025) EllapsedTime: 74.5 seconds RetCode: 0 Status: OK PackageFile: multiMiR_1.31.0.tar.gz PackageFileSize: 332.3 KiB