Package: multiMiR Version: 1.31.0 Command: rm -rf multiMiR.buildbin-libdir && mkdir multiMiR.buildbin-libdir && /Users/biocbuild/BBS/utils/build-universal.sh multiMiR_1.31.0.tar.gz /Library/Frameworks/R.framework/Resources/bin/R multiMiR.buildbin-libdir StartedAt: 2025-10-25 01:52:26 -0400 (Sat, 25 Oct 2025) EndedAt: 2025-10-25 01:52:51 -0400 (Sat, 25 Oct 2025) EllapsedTime: 25.4 seconds RetCode: 0 Status: OK PackageFile: multiMiR_1.31.0.tgz PackageFileSize: 632.7 KiB