Package: multiMiR Version: 1.31.0 Command: /Library/Frameworks/R.framework/Resources/bin/R CMD INSTALL multiMiR StartedAt: 2025-10-26 15:13:43 -0400 (Sun, 26 Oct 2025) EndedAt: 2025-10-26 15:13:49 -0400 (Sun, 26 Oct 2025) EllapsedTime: 6.6 seconds RetCode: 0 Status: OK