Package: multiMiR Version: 1.31.0 Command: /Library/Frameworks/R.framework/Resources/bin/R CMD build --keep-empty-dirs --no-resave-data multiMiR StartedAt: 2025-10-27 17:09:39 -0400 (Mon, 27 Oct 2025) EndedAt: 2025-10-27 17:10:27 -0400 (Mon, 27 Oct 2025) EllapsedTime: 48.5 seconds RetCode: 0 Status: OK PackageFile: multiMiR_1.31.0.tar.gz PackageFileSize: 331.9 KiB