Package: multiMiR Version: 1.31.0 Command: rm -rf multiMiR.buildbin-libdir && mkdir multiMiR.buildbin-libdir && /Users/biocbuild/BBS/utils/build-universal.sh multiMiR_1.31.0.tar.gz /Library/Frameworks/R.framework/Resources/bin/R multiMiR.buildbin-libdir StartedAt: 2025-10-24 23:11:49 -0400 (Fri, 24 Oct 2025) EndedAt: 2025-10-24 23:11:56 -0400 (Fri, 24 Oct 2025) EllapsedTime: 7.2 seconds RetCode: 0 Status: OK PackageFile: multiMiR_1.31.0.tgz PackageFileSize: 635.5 KiB