Package: multiHiCcompare Version: 1.27.0 Command: /home/biocbuild/R/R/bin/R CMD INSTALL multiHiCcompare StartedAt: 2025-10-23 20:54:02 -0000 (Thu, 23 Oct 2025) EndedAt: 2025-10-23 20:54:40 -0000 (Thu, 23 Oct 2025) EllapsedTime: 38.3 seconds RetCode: 0 Status: OK