Package: multiHiCcompare Version: 1.27.0 Command: /home/biocbuild/bbs-3.22-bioc/R/bin/R CMD check --install=check:multiHiCcompare.install-out.txt --library=/home/biocbuild/bbs-3.22-bioc/R/site-library --timings multiHiCcompare_1.27.0.tar.gz StartedAt: 2025-10-25 02:02:51 -0400 (Sat, 25 Oct 2025) EndedAt: 2025-10-25 02:07:19 -0400 (Sat, 25 Oct 2025) EllapsedTime: 268.5 seconds RetCode: 0 Status: OK CheckDir: multiHiCcompare.Rcheck Warnings: 0