Package: multiHiCcompare Version: 1.27.0 Command: /Library/Frameworks/R.framework/Resources/bin/R CMD INSTALL multiHiCcompare StartedAt: 2025-10-24 15:38:36 -0400 (Fri, 24 Oct 2025) EndedAt: 2025-10-24 15:39:18 -0400 (Fri, 24 Oct 2025) EllapsedTime: 42.1 seconds RetCode: 0 Status: OK