Package: multiHiCcompare Version: 1.27.0 Command: /Library/Frameworks/R.framework/Resources/bin/R CMD build --keep-empty-dirs --no-resave-data multiHiCcompare StartedAt: 2025-10-24 18:00:08 -0400 (Fri, 24 Oct 2025) EndedAt: 2025-10-24 18:01:26 -0400 (Fri, 24 Oct 2025) EllapsedTime: 77.9 seconds RetCode: 0 Status: OK PackageFile: multiHiCcompare_1.27.0.tar.gz PackageFileSize: 4.726 MiB