Package: multiHiCcompare Version: 1.27.0 Command: /Library/Frameworks/R.framework/Resources/bin/R CMD INSTALL multiHiCcompare StartedAt: 2025-10-24 15:20:36 -0400 (Fri, 24 Oct 2025) EndedAt: 2025-10-24 15:20:48 -0400 (Fri, 24 Oct 2025) EllapsedTime: 12.4 seconds RetCode: 0 Status: OK