Package: multiGSEA Version: 1.19.0 Command: /home/biocbuild/bbs-3.22-bioc/R/bin/R CMD INSTALL multiGSEA StartedAt: 2025-10-24 15:40:00 -0400 (Fri, 24 Oct 2025) EndedAt: 2025-10-24 15:41:16 -0400 (Fri, 24 Oct 2025) EllapsedTime: 76.8 seconds RetCode: 0 Status: OK