Package: multiGSEA Version: 1.19.0 Command: /home/biocbuild/bbs-3.22-bioc/R/bin/R CMD build --keep-empty-dirs --no-resave-data --md5 multiGSEA StartedAt: 2025-10-24 19:05:26 -0400 (Fri, 24 Oct 2025) EndedAt: 2025-10-24 19:26:29 -0400 (Fri, 24 Oct 2025) EllapsedTime: 1262.3 seconds RetCode: 0 Status: OK PackageFile: multiGSEA_1.19.0.tar.gz PackageFileSize: 954.4 KiB