Package: multiGSEA Version: 1.19.0 Command: /Library/Frameworks/R.framework/Resources/bin/R CMD INSTALL multiGSEA StartedAt: 2025-10-24 15:12:02 -0400 (Fri, 24 Oct 2025) EndedAt: 2025-10-24 15:12:36 -0400 (Fri, 24 Oct 2025) EllapsedTime: 34.3 seconds RetCode: 0 Status: OK