Package: multiGSEA Version: 1.19.0 Command: rm -rf multiGSEA.buildbin-libdir && mkdir multiGSEA.buildbin-libdir && /Users/biocbuild/BBS/utils/build-universal.sh multiGSEA_1.19.0.tar.gz /Library/Frameworks/R.framework/Resources/bin/R multiGSEA.buildbin-libdir StartedAt: 2025-10-24 23:11:46 -0400 (Fri, 24 Oct 2025) EndedAt: 2025-10-24 23:12:23 -0400 (Fri, 24 Oct 2025) EllapsedTime: 36.7 seconds RetCode: 0 Status: OK PackageFile: multiGSEA_1.19.0.tgz PackageFileSize: 982.9 KiB