Package: multiClust Version: 1.40.0 Command: /home/biocbuild/bbs-3.22-bioc/R/bin/R CMD INSTALL multiClust StartedAt: 2025-11-14 15:09:56 -0500 (Fri, 14 Nov 2025) EndedAt: 2025-11-14 15:10:04 -0500 (Fri, 14 Nov 2025) EllapsedTime: 7.6 seconds RetCode: 0 Status: OK