Package: multiClust Version: 1.40.0 Command: /home/biocbuild/bbs-3.22-bioc/R/bin/R CMD build --keep-empty-dirs --no-resave-data --md5 multiClust StartedAt: 2025-11-14 19:00:48 -0500 (Fri, 14 Nov 2025) EndedAt: 2025-11-14 19:01:18 -0500 (Fri, 14 Nov 2025) EllapsedTime: 30.0 seconds RetCode: 0 Status: OK PackageFile: multiClust_1.40.0.tar.gz PackageFileSize: 3.026 MiB