Package: multiClust Version: 1.40.0 Command: /Library/Frameworks/R.framework/Resources/bin/R CMD INSTALL multiClust StartedAt: 2025-10-31 15:19:51 -0400 (Fri, 31 Oct 2025) EndedAt: 2025-10-31 15:20:09 -0400 (Fri, 31 Oct 2025) EllapsedTime: 18.5 seconds RetCode: 0 Status: OK