Package: multiClust Version: 1.40.0 Command: /Library/Frameworks/R.framework/Resources/bin/R CMD build --keep-empty-dirs --no-resave-data multiClust StartedAt: 2025-10-31 18:02:01 -0400 (Fri, 31 Oct 2025) EndedAt: 2025-10-31 18:02:40 -0400 (Fri, 31 Oct 2025) EllapsedTime: 39.0 seconds RetCode: 0 Status: OK PackageFile: multiClust_1.40.0.tar.gz PackageFileSize: 3.048 MiB