Package: multiClust Version: 1.40.0 Command: /Library/Frameworks/R.framework/Resources/bin/R CMD build --keep-empty-dirs --no-resave-data multiClust StartedAt: 2025-11-10 17:10:19 -0500 (Mon, 10 Nov 2025) EndedAt: 2025-11-10 17:10:31 -0500 (Mon, 10 Nov 2025) EllapsedTime: 12.2 seconds RetCode: 0 Status: OK PackageFile: multiClust_1.40.0.tar.gz PackageFileSize: 3.047 MiB