Package: multiClust Version: 1.40.0 Maintainer: Nathan Lawlor MaintainerEmail: nathan.lawlor03 at gmail.com git_url: https://git.bioconductor.org/packages/multiClust git_branch: RELEASE_3_22 git_last_commit: 9efff1c git_last_commit_date: 2025-10-29 10:28:47 -0500 (Wed, 29 Oct 2025)