Package: msqrob2 Version: 1.17.1 Command: /home/biocbuild/bbs-3.22-bioc/R/bin/R CMD INSTALL msqrob2 StartedAt: 2025-10-27 15:39:23 -0400 (Mon, 27 Oct 2025) EndedAt: 2025-10-27 15:39:53 -0400 (Mon, 27 Oct 2025) EllapsedTime: 30.3 seconds RetCode: 0 Status: OK