Package: msmsTests Version: 1.47.0 Command: /Library/Frameworks/R.framework/Resources/bin/R CMD INSTALL msmsTests StartedAt: 2025-10-24 15:46:44 -0400 (Fri, 24 Oct 2025) EndedAt: 2025-10-24 15:47:36 -0400 (Fri, 24 Oct 2025) EllapsedTime: 51.9 seconds RetCode: 0 Status: OK