Package: msmsTests Version: 1.47.0 Command: rm -rf msmsTests.buildbin-libdir && mkdir msmsTests.buildbin-libdir && /Users/biocbuild/BBS/utils/build-universal.sh msmsTests_1.47.0.tar.gz /Library/Frameworks/R.framework/Resources/bin/R msmsTests.buildbin-libdir StartedAt: 2025-10-25 01:51:46 -0400 (Sat, 25 Oct 2025) EndedAt: 2025-10-25 01:52:40 -0400 (Sat, 25 Oct 2025) EllapsedTime: 54.2 seconds RetCode: 0 Status: OK PackageFile: msmsTests_1.47.0.tgz PackageFileSize: 582.4 KiB