Package: msmsTests Version: 1.47.0 Command: /Library/Frameworks/R.framework/Resources/bin/R CMD build --keep-empty-dirs --no-resave-data msmsTests StartedAt: 2025-10-26 17:18:03 -0400 (Sun, 26 Oct 2025) EndedAt: 2025-10-26 17:18:32 -0400 (Sun, 26 Oct 2025) EllapsedTime: 29.3 seconds RetCode: 0 Status: OK PackageFile: msmsTests_1.47.0.tar.gz PackageFileSize: 548.2 KiB