Package: msmsTests Version: 1.47.0 Command: rm -rf msmsTests.buildbin-libdir && mkdir msmsTests.buildbin-libdir && /Users/biocbuild/BBS/utils/build-universal.sh msmsTests_1.47.0.tar.gz /Library/Frameworks/R.framework/Resources/bin/R msmsTests.buildbin-libdir StartedAt: 2025-10-26 22:42:13 -0400 (Sun, 26 Oct 2025) EndedAt: 2025-10-26 22:42:29 -0400 (Sun, 26 Oct 2025) EllapsedTime: 16.3 seconds RetCode: 0 Status: OK PackageFile: msmsTests_1.47.0.tgz PackageFileSize: 583.7 KiB