Package: msmsTests Version: 1.48.0 Maintainer: Josep Gregori i Font MaintainerEmail: josep.gregori at gmail.com git_url: https://git.bioconductor.org/packages/msmsTests git_branch: RELEASE_3_22 git_last_commit: 51afab8 git_last_commit_date: 2025-10-29 10:15:47 -0500 (Wed, 29 Oct 2025)