Package: msmsEDA Version: 1.47.0 Command: /home/biocbuild/bbs-3.22-bioc/R/bin/R CMD INSTALL msmsEDA StartedAt: 2025-10-24 15:48:09 -0400 (Fri, 24 Oct 2025) EndedAt: 2025-10-24 15:48:46 -0400 (Fri, 24 Oct 2025) EllapsedTime: 36.4 seconds RetCode: 0 Status: OK