Package: msmsEDA Version: 1.48.0 Command: /Library/Frameworks/R.framework/Resources/bin/R CMD INSTALL msmsEDA StartedAt: 2025-11-03 15:31:33 -0500 (Mon, 03 Nov 2025) EndedAt: 2025-11-03 15:32:26 -0500 (Mon, 03 Nov 2025) EllapsedTime: 52.4 seconds RetCode: 0 Status: OK