Package: msmsEDA Version: 1.48.0 Command: rm -rf msmsEDA.buildbin-libdir && mkdir msmsEDA.buildbin-libdir && /Users/biocbuild/BBS/utils/build-universal.sh msmsEDA_1.48.0.tar.gz /Library/Frameworks/R.framework/Resources/bin/R msmsEDA.buildbin-libdir StartedAt: 2025-11-04 01:51:50 -0500 (Tue, 04 Nov 2025) EndedAt: 2025-11-04 01:52:45 -0500 (Tue, 04 Nov 2025) EllapsedTime: 55.3 seconds RetCode: 0 Status: OK PackageFile: msmsEDA_1.48.0.tgz PackageFileSize: 496.2 KiB