Package: msmsEDA Version: 1.47.0 Command: /Library/Frameworks/R.framework/Resources/bin/R CMD INSTALL msmsEDA StartedAt: 2025-10-24 15:24:36 -0400 (Fri, 24 Oct 2025) EndedAt: 2025-10-24 15:24:52 -0400 (Fri, 24 Oct 2025) EllapsedTime: 15.3 seconds RetCode: 0 Status: OK