Package: msmsEDA Version: 1.47.0 Command: rm -rf msmsEDA.buildbin-libdir && mkdir msmsEDA.buildbin-libdir && /Users/biocbuild/BBS/utils/build-universal.sh msmsEDA_1.47.0.tar.gz /Library/Frameworks/R.framework/Resources/bin/R msmsEDA.buildbin-libdir StartedAt: 2025-10-24 23:11:20 -0400 (Fri, 24 Oct 2025) EndedAt: 2025-10-24 23:11:38 -0400 (Fri, 24 Oct 2025) EllapsedTime: 17.3 seconds RetCode: 0 Status: OK PackageFile: msmsEDA_1.47.0.tgz PackageFileSize: 497.4 KiB