Package: mslp Version: 1.11.0 Command: /home/biocbuild/bbs-3.22-bioc/R/bin/R CMD INSTALL mslp StartedAt: 2025-10-24 15:37:44 -0400 (Fri, 24 Oct 2025) EndedAt: 2025-10-24 15:37:46 -0400 (Fri, 24 Oct 2025) EllapsedTime: 2.0 seconds RetCode: 0 Status: OK