Package: msgbsR Version: 1.33.1 Command: /home/biocbuild/R/R/bin/R CMD INSTALL msgbsR StartedAt: 2025-10-23 21:18:31 -0000 (Thu, 23 Oct 2025) EndedAt: 2025-10-23 21:19:47 -0000 (Thu, 23 Oct 2025) EllapsedTime: 76.1 seconds RetCode: 0 Status: OK