Package: msgbsR Version: 1.33.1 Command: /home/biocbuild/bbs-3.22-bioc/R/bin/R CMD check --install=check:msgbsR.install-out.txt --library=/home/biocbuild/bbs-3.22-bioc/R/site-library --timings msgbsR_1.33.1.tar.gz StartedAt: 2025-10-25 01:54:03 -0400 (Sat, 25 Oct 2025) EndedAt: 2025-10-25 02:01:29 -0400 (Sat, 25 Oct 2025) EllapsedTime: 445.5 seconds RetCode: 0 Status: OK CheckDir: msgbsR.Rcheck Warnings: 0