Package: msgbsR Version: 1.33.1 Command: /Library/Frameworks/R.framework/Resources/bin/R CMD INSTALL msgbsR StartedAt: 2025-10-24 15:29:49 -0400 (Fri, 24 Oct 2025) EndedAt: 2025-10-24 15:30:13 -0400 (Fri, 24 Oct 2025) EllapsedTime: 24.0 seconds RetCode: 0 Status: OK