Package: msa Version: 1.41.3 Command: /home/biocbuild/bbs-3.22-bioc/R/bin/R CMD INSTALL msa StartedAt: 2025-10-24 15:42:44 -0400 (Fri, 24 Oct 2025) EndedAt: 2025-10-24 15:46:56 -0400 (Fri, 24 Oct 2025) EllapsedTime: 251.7 seconds RetCode: 0 Status: OK