Package: msa Version: 1.41.3 Command: /home/biocbuild/bbs-3.22-bioc/R/bin/R CMD build --keep-empty-dirs --no-resave-data --md5 msa StartedAt: 2025-10-27 18:51:51 -0400 (Mon, 27 Oct 2025) EndedAt: 2025-10-27 18:56:26 -0400 (Mon, 27 Oct 2025) EllapsedTime: 274.3 seconds RetCode: 0 Status: OK PackageFile: msa_1.41.3.tar.gz PackageFileSize: 3.94 MiB