Package: msPurity Version: 1.35.0 Command: /home/biocbuild/bbs-3.22-bioc/R/bin/R CMD INSTALL msPurity StartedAt: 2025-10-24 15:41:51 -0400 (Fri, 24 Oct 2025) EndedAt: 2025-10-24 15:42:03 -0400 (Fri, 24 Oct 2025) EllapsedTime: 11.3 seconds RetCode: 0 Status: OK