Package: msImpute Version: 1.20.0 Command: /home/biocbuild/bbs-3.22-bioc/R/bin/R CMD INSTALL msImpute StartedAt: 2025-11-20 16:48:48 -0500 (Thu, 20 Nov 2025) EndedAt: 2025-11-20 16:49:16 -0500 (Thu, 20 Nov 2025) EllapsedTime: 27.7 seconds RetCode: 0 Status: OK